BEGIN:VCALENDAR
VERSION:2.0
PRODID:-//Tukios.com/
BEGIN:VEVENT
UID:7b41adcc-8d9a-4036-b967-aa8ccd4e2ad3@obituaries.macdonaldfuneral.com
DTSTAMP:20260420T204832Z
DTSTART:20260424T140000Z
DTEND:20260424T160000Z
SUMMARY:Visitation
DESCRIPTION:
URL:https://obituaries.macdonaldfuneral.com/obituaries/lillie-howard
LOCATION: 10520 N Florida Ave  Tampa FL 33612
GEO:28.0463175;-82.4597899
END:VEVENT
END:VCALENDAR