BEGIN:VCALENDAR
VERSION:2.0
PRODID:-//Tukios.com/
BEGIN:VEVENT
UID:cdab7eae-619e-4013-be29-88fa8d04bb3d@obituaries.macdonaldfuneral.com
DTSTAMP:20260420T204427Z
DTSTART:20260427T163000Z
DTEND:20260427T173000Z
SUMMARY:Burial
DESCRIPTION:
URL:https://obituaries.macdonaldfuneral.com/obituaries/lillie-howard
LOCATION:Florida National Cemetery 6502 SW 102nd Ave  Bushnell FL 33513
GEO:28.6057101;-82.2101502
END:VEVENT
END:VCALENDAR